BEGIN:VCALENDAR
VERSION:2.0
PRODID:-//wp-events-plugin.com//7.2.3.1//EN
TZID:Australia/Brisbane
X-WR-TIMEZONE:Australia/Brisbane
BEGIN:VEVENT
UID:126@quihn.org
DTSTART;TZID=Australia/Brisbane:20251129T000000
DTEND;TZID=Australia/Brisbane:20251129T011500
DTSTAMP:20251126T011723Z
URL:https://www.quihn.org/events/mudmaps-burleigh-heads-one-off/
SUMMARY:MudMaps Burleigh Heads ONE OFF
DESCRIPTION:this is a test
CATEGORIES:MudMaps Group,Peer Support &amp; Group Programs
LOCATION:Burleigh Heads\, Unit 12\, 89-99 West Burleigh Rd\, Burleigh Heads
 \, QLD\, 4220\, Australia
X-APPLE-STRUCTURED-LOCATION;VALUE=URI;X-ADDRESS=Unit 12\, 89-99 West Burlei
 gh Rd\, Burleigh Heads\, QLD\, 4220\, Australia;X-APPLE-RADIUS=100;X-TITLE
 =Burleigh Heads:geo:0,0
END:VEVENT
BEGIN:VTIMEZONE
TZID:Australia/Brisbane
X-LIC-LOCATION:Australia/Brisbane
BEGIN:STANDARD
DTSTART:20241129T000000
TZOFFSETFROM:+1000
TZOFFSETTO:+1000
TZNAME:AEST
END:STANDARD
END:VTIMEZONE
END:VCALENDAR